BEGIN:VCALENDAR
VERSION:2.0
PRODID:SchoolNow
CALSCALE:GREGORIAN
BEGIN:VEVENT
UID:f854176c-123f-11eb-80df-129e0a2870c7
DTSTAMP:20201019T191912Z
SUMMARY:Parent-Teacher Conferences - Half Day (AM Only)
URL;VALUE=URI:https://www.op97.org/beye/calendar/2474890/parent-teacher-con
 ferences-half-day-am-only-102220
DTSTART;VALUE=DATE:20201022
DTEND;VALUE=DATE:20201023
END:VEVENT
END:VCALENDAR
