BEGIN:VCALENDAR
VERSION:2.0
PRODID:SchoolNow
CALSCALE:GREGORIAN
BEGIN:VEVENT
UID:95c54de0-13e9-11eb-aefa-0a35695248a5
DTSTAMP:20201021T220552Z
SUMMARY:Virtual Book Fair (Beye)
URL;VALUE=URI:https://www.op97.org/beye/calendar/2477218/virtual-book-fair-
 beye
DTSTART;VALUE=DATE:20201109
DTEND;VALUE=DATE:20201114
END:VEVENT
END:VCALENDAR
