BEGIN:VCALENDAR
VERSION:2.0
PRODID:SchoolNow
CALSCALE:GREGORIAN
BEGIN:VEVENT
UID:0b84cae0-207b-11eb-92ee-12f9041f5f23
DTSTAMP:20201120T223608Z
SUMMARY:Principal Coffee (Beye)
URL;VALUE=URI:https://www.op97.org/beye/calendar/2491579/principal-coffee-b
 eye
DTSTART:20201204T141500Z
DTEND:20201204T151500Z
END:VEVENT
END:VCALENDAR
