BEGIN:VCALENDAR
VERSION:2.0
PRODID:SchoolNow
CALSCALE:GREGORIAN
BEGIN:VEVENT
UID:9c4ea12e-238f-11eb-8562-0a2c95d0af3b
DTSTAMP:20201110T200244Z
SUMMARY:D97 Meal Distribution
URL;VALUE=URI:https://www.op97.org/beye/calendar/2493861/meal-distribution-
 120120
DTSTART:20201201T163000Z
DTEND:20201201T190000Z
END:VEVENT
END:VCALENDAR
