BEGIN:VCALENDAR
VERSION:2.0
PRODID:SchoolNow
CALSCALE:GREGORIAN
BEGIN:VEVENT
UID:f4612e7c-238f-11eb-ab58-0a2c95d0af3b
DTSTAMP:20201110T200435Z
SUMMARY:D97 Meal Distribution
URL;VALUE=URI:https://www.op97.org/beye/calendar/2493884/meal-distribution-
 121520
DTSTART:20201215T163000Z
DTEND:20201215T190000Z
END:VEVENT
END:VCALENDAR
