BEGIN:VCALENDAR
VERSION:2.0
PRODID:SchoolNow
CALSCALE:GREGORIAN
BEGIN:VEVENT
UID:4941b42e-33ef-11eb-90c2-0af794100637
DTSTAMP:20201201T160718Z
SUMMARY:Spelling Bee (Grades 2 & 3)
URL;VALUE=URI:https://www.op97.org/beye/calendar/2506185/spelling-bee-grade
 s-2-3
DTSTART:20210128T003000Z
DTEND:20210128T013000Z
END:VEVENT
END:VCALENDAR
