BEGIN:VCALENDAR
VERSION:2.0
PRODID:SchoolNow
CALSCALE:GREGORIAN
BEGIN:VEVENT
UID:5cddb76c-33ef-11eb-899b-0af794100637
DTSTAMP:20201201T160751Z
SUMMARY:Spelling Bee (Grades 4 & 5)
URL;VALUE=URI:https://www.op97.org/beye/calendar/2506186/spelling-bee-grade
 s-2-3-clone
DTSTART:20210129T003000Z
DTEND:20210129T013000Z
END:VEVENT
END:VCALENDAR
