BEGIN:VCALENDAR
VERSION:2.0
PRODID:SchoolNow
CALSCALE:GREGORIAN
BEGIN:VEVENT
UID:029f2274-3b36-11eb-b494-0aee2f181025
DTSTAMP:20201210T222112Z
SUMMARY:Daly Bagel\, Breakfast Fundraiser
URL;VALUE=URI:https://www.op97.org/beye/calendar/2511190/daly-bagel-breakfa
 st-fundraiser
DTSTART:20210130T140000Z
DTEND:20210130T180000Z
END:VEVENT
END:VCALENDAR
