BEGIN:VCALENDAR
VERSION:2.0
PRODID:SchoolNow
CALSCALE:GREGORIAN
BEGIN:VEVENT
UID:21185c2c-97d2-11eb-960d-0eeaba490d17
DTSTAMP:20210407T185031Z
SUMMARY:Principal Coffee
URL;VALUE=URI:https://www.op97.org/beye/calendar/2568213/principal-coffee
DTSTART:20210416T131500Z
DTEND:20210416T141500Z
END:VEVENT
END:VCALENDAR
