BEGIN:VCALENDAR
VERSION:2.0
PRODID:SchoolNow
CALSCALE:GREGORIAN
BEGIN:VEVENT
UID:5286d7c0-97d2-11eb-8a0e-0eeaba490d17
DTSTAMP:20210407T185154Z
SUMMARY:Picture Day
URL;VALUE=URI:https://www.op97.org/beye/calendar/2568214/picture-day
DTSTART;VALUE=DATE:20210423
DTEND;VALUE=DATE:20210424
END:VEVENT
END:VCALENDAR
