BEGIN:VCALENDAR
VERSION:2.0
PRODID:SchoolNow
CALSCALE:GREGORIAN
BEGIN:VEVENT
UID:0816ecda-9e3e-11eb-8641-0281bc417113
DTSTAMP:20210415T225831Z
SUMMARY:PTO Earth Month Assembly
URL;VALUE=URI:https://www.op97.org/beye/calendar/2577944/pto-earth-month-as
 sembly
DTSTART:20210505T133000Z
DTEND:20210505T143000Z
END:VEVENT
END:VCALENDAR
