BEGIN:VCALENDAR
VERSION:2.0
PRODID:SchoolNow
CALSCALE:GREGORIAN
BEGIN:VEVENT
UID:90f8062e-9e3e-11eb-90f9-0281bc417113
DTSTAMP:20210415T230152Z
SUMMARY:Hansel & Gretel ~ Opera for the Young
URL;VALUE=URI:https://www.op97.org/beye/calendar/2577945/hansel-gretel-oper
 a-for-the-young
DTSTART;VALUE=DATE:20210512
DTEND;VALUE=DATE:20210513
END:VEVENT
END:VCALENDAR
