BEGIN:VCALENDAR
VERSION:2.0
PRODID:SchoolNow
CALSCALE:GREGORIAN
BEGIN:VEVENT
UID:d10f1a5c-a9e4-11eb-9bc4-0e5863696e01
DTSTAMP:20210430T184938Z
SUMMARY:5th Grade Event
URL;VALUE=URI:https://www.op97.org/beye/calendar/2590340/5th-grade-event
DTSTART:20210603T230000Z
DTEND:20210604T010000Z
END:VEVENT
END:VCALENDAR
