BEGIN:VCALENDAR
VERSION:2.0
PRODID:SchoolNow
CALSCALE:GREGORIAN
BEGIN:VEVENT
UID:692204f4-de87-11eb-a020-02a7a2105e4d
DTSTAMP:20210706T182433Z
SUMMARY:First Day of School 2021-2022
URL;VALUE=URI:https://www.op97.org/beye/calendar/2635310/first-day-of-the-2
 021-2022-school-year
DTSTART;VALUE=DATE:20210825
DTEND;VALUE=DATE:20210826
END:VEVENT
END:VCALENDAR
