BEGIN:VCALENDAR
VERSION:2.0
PRODID:SchoolNow
CALSCALE:GREGORIAN
BEGIN:VEVENT
UID:9e41e1e6-de95-11eb-81ed-0a86142f0b85
DTSTAMP:20210706T200615Z
SUMMARY:Institute Day - No School
URL;VALUE=URI:https://www.op97.org/beye/calendar/2635420/teacher-institute-
 dayno-school-082321
DTSTART;VALUE=DATE:20210823
DTEND;VALUE=DATE:20210824
END:VEVENT
END:VCALENDAR
