BEGIN:VCALENDAR
VERSION:2.0
PRODID:SchoolNow
CALSCALE:GREGORIAN
BEGIN:VEVENT
UID:1b803842-de96-11eb-83b6-0a86142f0b85
DTSTAMP:20210706T200945Z
SUMMARY:Institute Day - No School
URL;VALUE=URI:https://www.op97.org/beye/calendar/2635431/teacher-institute-
 dayno-school-082421
DTSTART;VALUE=DATE:20210824
DTEND;VALUE=DATE:20210825
END:VEVENT
END:VCALENDAR
