BEGIN:VCALENDAR
VERSION:2.0
PRODID:SchoolNow
CALSCALE:GREGORIAN
BEGIN:VEVENT
UID:c16a38d0-de9a-11eb-9287-0a95bb28d3d3
DTSTAMP:20210706T204301Z
SUMMARY:No School- Presidents Day
URL;VALUE=URI:https://www.op97.org/beye/calendar/2635538/no-school-presiden
 ts-day-022122
DTSTART;VALUE=DATE:20220221
DTEND;VALUE=DATE:20220222
END:VEVENT
END:VCALENDAR
