BEGIN:VCALENDAR
VERSION:2.0
PRODID:SchoolNow
CALSCALE:GREGORIAN
BEGIN:VEVENT
UID:e99ce180-de9b-11eb-90c0-0a95bb28d3d3
DTSTAMP:20210706T205118Z
SUMMARY:No School - District 97 Closed
URL;VALUE=URI:https://www.op97.org/beye/calendar/2635549/no-school-district
 -97-closed-041522
DTSTART;VALUE=DATE:20220415
DTEND;VALUE=DATE:20220416
END:VEVENT
END:VCALENDAR
