BEGIN:VCALENDAR
VERSION:2.0
PRODID:SchoolNow
CALSCALE:GREGORIAN
BEGIN:VEVENT
UID:da6e3960-de9c-11eb-9fbe-0a95bb28d3d3
DTSTAMP:20210706T205802Z
SUMMARY:No School - Memorial Day
URL;VALUE=URI:https://www.op97.org/beye/calendar/2635571/no-school-memorial
 -day-053022
DTSTART;VALUE=DATE:20220530
DTEND;VALUE=DATE:20220531
END:VEVENT
END:VCALENDAR
