BEGIN:VCALENDAR
VERSION:2.0
PRODID:SchoolNow
CALSCALE:GREGORIAN
BEGIN:VEVENT
UID:f672abd0-de9e-11eb-9248-0a95bb28d3d3
DTSTAMP:20210706T211308Z
SUMMARY:3rd Trimester Ends
URL;VALUE=URI:https://www.op97.org/beye/calendar/2635629/3rd-trimester-ends
 -060722
DTSTART;VALUE=DATE:20220607
DTEND;VALUE=DATE:20220608
END:VEVENT
END:VCALENDAR
