BEGIN:VCALENDAR
VERSION:2.0
PRODID:SchoolNow
CALSCALE:GREGORIAN
BEGIN:VEVENT
UID:5bbfdf1c-de9f-11eb-88e3-0a95bb28d3d3
DTSTAMP:20210706T211558Z
SUMMARY:3rd Trimester Report Card Distribution
URL;VALUE=URI:https://www.op97.org/beye/calendar/2635642/third-trimester-re
 port-card-distribution-2021-22-060722
DTSTART;VALUE=DATE:20220607
DTEND;VALUE=DATE:20220608
END:VEVENT
END:VCALENDAR
