BEGIN:VCALENDAR
VERSION:2.0
PRODID:SchoolNow
CALSCALE:GREGORIAN
BEGIN:VEVENT
UID:b498c8fc-0914-11ec-a272-0e2b5f74362d
DTSTAMP:20210829T220147Z
SUMMARY:Beye School Curriculum Night
URL;VALUE=URI:https://www.op97.org/beye/calendar/2694109/beye-school-curric
 ulum-night
DTSTART:20210902T230000Z
DTEND:20210903T003000Z
END:VEVENT
END:VCALENDAR
