BEGIN:VCALENDAR
VERSION:2.0
PRODID:SchoolNow
CALSCALE:GREGORIAN
BEGIN:VEVENT
UID:b6c0e496-2531-11ec-b2cf-029050341a57
DTSTAMP:20211004T163959Z
SUMMARY:Board Meeting
URL;VALUE=URI:https://www.op97.org/beye/calendar/2790099/board-meeting-1012
 21
DTSTART:20211013T000000Z
DTEND:20211013T045900Z
END:VEVENT
END:VCALENDAR
