BEGIN:VCALENDAR
VERSION:2.0
PRODID:SchoolNow
CALSCALE:GREGORIAN
BEGIN:VEVENT
UID:c598120e-2532-11ec-825b-0204d1563635
DTSTAMP:20211004T164733Z
SUMMARY:Board Meeting
URL;VALUE=URI:https://www.op97.org/beye/calendar/2790178/board-meeting-0222
 22
DTSTART:20220223T010000Z
DTEND:20220223T055900Z
END:VEVENT
END:VCALENDAR
