BEGIN:VCALENDAR
VERSION:2.0
PRODID:SchoolNow
CALSCALE:GREGORIAN
BEGIN:VEVENT
UID:ec8ddeca-2532-11ec-978c-0204d1563635
DTSTAMP:20211004T164838Z
SUMMARY:Board Meeting
URL;VALUE=URI:https://www.op97.org/beye/calendar/2790188/board-meeting-0315
 22
DTSTART:20220316T000000Z
DTEND:20220316T045900Z
END:VEVENT
END:VCALENDAR
