BEGIN:VCALENDAR
VERSION:2.0
PRODID:SchoolNow
CALSCALE:GREGORIAN
BEGIN:VEVENT
UID:5e302eac-2533-11ec-bd3b-0204d1563635
DTSTAMP:20220519T201841Z
SUMMARY:Board Meeting
URL;VALUE=URI:https://www.op97.org/beye/calendar/2790228/board-meeting-0524
 22
DTSTART:20220524T230000Z
DTEND:20220525T035900Z
END:VEVENT
END:VCALENDAR
