BEGIN:VCALENDAR
VERSION:2.0
PRODID:SchoolNow
CALSCALE:GREGORIAN
BEGIN:VEVENT
UID:79482e1a-2533-11ec-b691-0204d1563635
DTSTAMP:20211004T165234Z
SUMMARY:Board Meeting
URL;VALUE=URI:https://www.op97.org/beye/calendar/2790238/board-meeting-0614
 22
DTSTART:20220615T000000Z
DTEND:20220615T045900Z
END:VEVENT
END:VCALENDAR
