BEGIN:VCALENDAR
VERSION:2.0
PRODID:SchoolNow
CALSCALE:GREGORIAN
BEGIN:VEVENT
UID:ae8aeed2-2533-11ec-acb8-0204d1563635
DTSTAMP:20211004T165404Z
SUMMARY:Board Meeting
URL;VALUE=URI:https://www.op97.org/beye/calendar/2790258/board-meeting-0816
 22
DTSTART:20220817T000000Z
DTEND:20220817T045900Z
END:VEVENT
END:VCALENDAR
