BEGIN:VCALENDAR
VERSION:2.0
PRODID:SchoolNow
CALSCALE:GREGORIAN
BEGIN:VEVENT
UID:9881f51c-2dea-11ec-99a2-0a8d423d1623
DTSTAMP:20211015T190334Z
SUMMARY:Kindergarten All Day Playdate
LOCATION:Rehm Park\, 515 Garfield St\, Oak Park\, IL 60304\, USA
URL;VALUE=URI:https://www.op97.org/beye/calendar/2817369/kindergarten-all-d
 ay-playdate
DTSTART;VALUE=DATE:20211023
DTEND;VALUE=DATE:20211024
END:VEVENT
END:VCALENDAR
