BEGIN:VCALENDAR
VERSION:2.0
PRODID:SchoolNow
CALSCALE:GREGORIAN
BEGIN:VEVENT
UID:1ead963c-2deb-11ec-ab06-0eeff7d7ce4b
DTSTAMP:20211015T190719Z
SUMMARY:1st Grade Playdate
LOCATION:Stevenson Park\, 49 Lake St\, Oak Park\, IL 60302\, USA
URL;VALUE=URI:https://www.op97.org/beye/calendar/2817370/1st-grade-playdate
DTSTART:20211024T180000Z
DTEND:20211024T200000Z
END:VEVENT
END:VCALENDAR
