BEGIN:VCALENDAR
VERSION:2.0
PRODID:SchoolNow
CALSCALE:GREGORIAN
BEGIN:VEVENT
UID:6be9939c-2deb-11ec-a978-0eeff7d7ce4b
DTSTAMP:20211015T190929Z
SUMMARY:2nd Grade Playdate
LOCATION:Stevenson Park\, 49 Lake St\, Oak Park\, IL 60302\, USA
URL;VALUE=URI:https://www.op97.org/beye/calendar/2817371/2nd-grade-playdate
DTSTART:20211030T150000Z
DTEND:20211030T170000Z
END:VEVENT
END:VCALENDAR
