BEGIN:VCALENDAR
VERSION:2.0
PRODID:SchoolNow
CALSCALE:GREGORIAN
BEGIN:VEVENT
UID:91eedb32-2dec-11ec-b231-0ea05c921e01
DTSTAMP:20211015T191742Z
SUMMARY:3rd Grade Playdate
LOCATION:Longfellow Center & Park\, 610 S Ridgeland Ave\, Oak Park\, IL 603
 04\, USA
URL;VALUE=URI:https://www.op97.org/beye/calendar/2817395/3rd-grade-playdate
DTSTART:20211024T190000Z
DTEND:20211024T210000Z
END:VEVENT
END:VCALENDAR
