BEGIN:VCALENDAR
VERSION:2.0
PRODID:SchoolNow
CALSCALE:GREGORIAN
BEGIN:VEVENT
UID:daa6e45a-2dec-11ec-adfb-0ea05c921e01
DTSTAMP:20211015T191944Z
SUMMARY:4th Grade Playdate (2p)
LOCATION:Rehm Park\, 515 Garfield St\, Oak Park\, IL 60304\, USA
URL;VALUE=URI:https://www.op97.org/beye/calendar/2817396/4th-grade-playdate
 -2p
DTSTART:20211024T190000Z
DTEND:20211024T210000Z
END:VEVENT
END:VCALENDAR
