BEGIN:VCALENDAR
VERSION:2.0
PRODID:SchoolNow
CALSCALE:GREGORIAN
BEGIN:VEVENT
UID:9365b650-335c-11ec-a40f-0a069a32d143
DTSTAMP:20211022T172204Z
SUMMARY:5th Gr Family/Student Meet-Up
LOCATION:Stevenson Park\, 49 Lake St\, Oak Park\, IL 60302\, USA
URL;VALUE=URI:https://www.op97.org/beye/calendar/2835525/5th-gr-family-stud
 ent-meet-up
DTSTART:20211107T180000Z
DTEND:20211107T200000Z
END:VEVENT
END:VCALENDAR
