BEGIN:VCALENDAR
VERSION:2.0
PRODID:SchoolNow
CALSCALE:GREGORIAN
BEGIN:VEVENT
UID:7c244ad8-37e9-11ec-b932-0a3a0426d5fd
DTSTAMP:20211028T122049Z
SUMMARY:Picture Retake Day
URL;VALUE=URI:https://www.op97.org/beye/calendar/2850853/picture-retake-day
DTSTART;VALUE=DATE:20211111
DTEND;VALUE=DATE:20211112
END:VEVENT
END:VCALENDAR
