BEGIN:VCALENDAR
VERSION:2.0
PRODID:SchoolNow
CALSCALE:GREGORIAN
BEGIN:VEVENT
UID:e0557a2a-40dd-11ec-ae5b-0e40755811ef
DTSTAMP:20211108T215023Z
SUMMARY:1st Grade Get-Together
LOCATION:Stevenson Park
URL;VALUE=URI:https://www.op97.org/beye/calendar/2879309/1st-grade-get-toge
 ther
DTSTART:20211205T160000Z
DTEND:20211205T180000Z
END:VEVENT
END:VCALENDAR
