BEGIN:VCALENDAR
VERSION:2.0
PRODID:SchoolNow
CALSCALE:GREGORIAN
BEGIN:VEVENT
UID:89e9705e-4bb1-11ec-ab46-02947be0dfd7
DTSTAMP:20211122T205310Z
SUMMARY:PTO Community Meeting
URL;VALUE=URI:https://www.op97.org/beye/calendar/2907416/pto-community-meet
 ing
DTSTART:20211211T160000Z
DTEND:20211212T050000Z
END:VEVENT
END:VCALENDAR
