BEGIN:VCALENDAR
VERSION:2.0
PRODID:SchoolNow
CALSCALE:GREGORIAN
BEGIN:VEVENT
UID:d9833b02-629c-11ec-b482-024bed571cef
DTSTAMP:20211221T203142Z
SUMMARY:Special Board Meeting
URL;VALUE=URI:https://www.op97.org/beye/calendar/2967597/special-board-meet
 ing
DTSTART:20220104T223000Z
DTEND:20220105T055900Z
END:VEVENT
END:VCALENDAR
