BEGIN:VCALENDAR
VERSION:2.0
PRODID:SchoolNow
CALSCALE:GREGORIAN
BEGIN:VEVENT
UID:7d24d36a-629d-11ec-920d-024bed571cef
DTSTAMP:20211221T203509Z
SUMMARY:Special Board Meeting
URL;VALUE=URI:https://www.op97.org/beye/calendar/2967609/special-board-meet
 ing
DTSTART:20220105T210000Z
DTEND:20220106T055900Z
END:VEVENT
END:VCALENDAR
