BEGIN:VCALENDAR
VERSION:2.0
PRODID:SchoolNow
CALSCALE:GREGORIAN
BEGIN:VEVENT
UID:967dc35e-73bd-11ec-a7bc-02eb581ce077
DTSTAMP:20220112T153941Z
SUMMARY:Spelling Bee (4th Grade)
URL;VALUE=URI:https://www.op97.org/beye/calendar/3072608/spelling-bee-4th-g
 rade
DTSTART:20220207T193000Z
DTEND:20220207T203000Z
END:VEVENT
END:VCALENDAR
