BEGIN:VCALENDAR
VERSION:2.0
PRODID:SchoolNow
CALSCALE:GREGORIAN
BEGIN:VEVENT
UID:d2a80290-73bd-11ec-83c8-02eb581ce077
DTSTAMP:20220112T153926Z
SUMMARY:Spelling Bee (2nd Grade)
URL;VALUE=URI:https://www.op97.org/beye/calendar/3072609/spelling-bee-2nd-g
 rade
DTSTART:20220208T160000Z
DTEND:20220208T170000Z
END:VEVENT
END:VCALENDAR
