BEGIN:VCALENDAR
VERSION:2.0
PRODID:SchoolNow
CALSCALE:GREGORIAN
BEGIN:VEVENT
UID:26a4a740-73be-11ec-9963-02eb581ce077
DTSTAMP:20220112T154147Z
SUMMARY:Spelling Bee (3rd & 5th Grades)
URL;VALUE=URI:https://www.op97.org/beye/calendar/3072610/spelling-bee-3rd-5
 th-grades
DTSTART:20220210T181500Z
DTEND:20220210T203000Z
END:VEVENT
END:VCALENDAR
