BEGIN:VCALENDAR
VERSION:2.0
PRODID:SchoolNow
CALSCALE:GREGORIAN
BEGIN:VEVENT
UID:3c9c607c-7faf-11ec-a050-0a06307d90eb
DTSTAMP:20220127T202515Z
SUMMARY:OPRF Japanese Student Zoom Visit
URL;VALUE=URI:https://www.op97.org/beye/calendar/3083480/oprf-japanese-stud
 ent-zoom-visit
DTSTART:20220201T141000Z
DTEND:20220201T144000Z
END:VEVENT
END:VCALENDAR
