BEGIN:VCALENDAR
VERSION:2.0
PRODID:SchoolNow
CALSCALE:GREGORIAN
BEGIN:VEVENT
UID:54188370-7faf-11ec-9773-0a06307d90eb
DTSTAMP:20220127T202554Z
SUMMARY:OPRF Japanese Students Zoom Visit
URL;VALUE=URI:https://www.op97.org/beye/calendar/3083481/oprf-japanese-stud
 ents-zoom-visit
DTSTART:20220202T141000Z
DTEND:20220202T144000Z
END:VEVENT
END:VCALENDAR
