BEGIN:VCALENDAR
VERSION:2.0
PRODID:SchoolNow
CALSCALE:GREGORIAN
BEGIN:VEVENT
UID:f2d4687e-7fb1-11ec-9538-0ad8aea92475
DTSTAMP:20220127T204508Z
SUMMARY:Hubbard Street Dance Performance
URL;VALUE=URI:https://www.op97.org/beye/calendar/3083482/hubbardt-street-da
 nce-performance
DTSTART;VALUE=DATE:20220211
DTEND;VALUE=DATE:20220212
END:VEVENT
END:VCALENDAR
