BEGIN:VCALENDAR
VERSION:2.0
PRODID:SchoolNow
CALSCALE:GREGORIAN
BEGIN:VEVENT
UID:8f33946c-94be-11ec-860b-0e433a5b235b
DTSTAMP:20220223T153750Z
SUMMARY:Black History Month Presentation
URL;VALUE=URI:https://www.op97.org/beye/calendar/3113505/black-history-mont
 h-presentation
DTSTART;VALUE=DATE:20220228
DTEND;VALUE=DATE:20220301
END:VEVENT
END:VCALENDAR
