BEGIN:VCALENDAR
VERSION:2.0
PRODID:SchoolNow
CALSCALE:GREGORIAN
BEGIN:VEVENT
UID:ca824432-94be-11ec-84a5-0e433a5b235b
DTSTAMP:20220223T153930Z
SUMMARY:National Reading Month Celebration
URL;VALUE=URI:https://www.op97.org/beye/calendar/3113506/national-reading-m
 onth-celebration
DTSTART;VALUE=DATE:20220325
DTEND;VALUE=DATE:20220326
END:VEVENT
END:VCALENDAR
