BEGIN:VCALENDAR
VERSION:2.0
PRODID:SchoolNow
CALSCALE:GREGORIAN
BEGIN:VEVENT
UID:f86a97b8-94bf-11ec-ae87-0e267d661cd3
DTSTAMP:20220223T154756Z
SUMMARY:Intermediate Band Concert @ Julian MS
URL;VALUE=URI:https://www.op97.org/beye/calendar/3113511/intermediate-band-
 concert-julian-ms
DTSTART:20220503T220000Z
DTEND:20220504T010000Z
END:VEVENT
END:VCALENDAR
