BEGIN:VCALENDAR
VERSION:2.0
PRODID:SchoolNow
CALSCALE:GREGORIAN
BEGIN:VEVENT
UID:2e946012-94c0-11ec-bb1c-0e267d661cd3
DTSTAMP:20220322T190634Z
SUMMARY:Intermediate Orchestra Concert @ Julian MS
URL;VALUE=URI:https://www.op97.org/beye/calendar/3113512/intermediate-orche
 stra-concert-julian-ms
DTSTART:20220510T220000Z
DTEND:20220511T000000Z
END:VEVENT
END:VCALENDAR
