BEGIN:VCALENDAR
VERSION:2.0
PRODID:SchoolNow
CALSCALE:GREGORIAN
BEGIN:VEVENT
UID:88d38636-9658-11ec-83ee-0e51fa75b497
DTSTAMP:20220225T163233Z
SUMMARY:1st Gr End of Year Picnic
LOCATION:Stevenson Park\, 49 Lake St\, Oak Park\, IL 60302\, USA
URL;VALUE=URI:https://www.op97.org/beye/calendar/3116275/1st-gr-end-of-year
 -picnic
DTSTART:20220602T140000Z
DTEND:20220602T190000Z
END:VEVENT
END:VCALENDAR
